BEGIN:VCALENDAR
VERSION:2.0
PRODID:-//Chicago School of Musical Arts - ECPv6.15.20//NONSGML v1.0//EN
CALSCALE:GREGORIAN
METHOD:PUBLISH
X-WR-CALNAME:Chicago School of Musical Arts
X-ORIGINAL-URL:https://chicagosma.com
X-WR-CALDESC:Events for Chicago School of Musical Arts
REFRESH-INTERVAL;VALUE=DURATION:PT1H
X-Robots-Tag:noindex
X-PUBLISHED-TTL:PT1H
BEGIN:VTIMEZONE
TZID:UTC
BEGIN:STANDARD
TZOFFSETFROM:+0000
TZOFFSETTO:+0000
TZNAME:UTC
DTSTART:20200101T000000
END:STANDARD
END:VTIMEZONE
BEGIN:VEVENT
DTSTART;VALUE=DATE:20220110
DTEND;VALUE=DATE:20220111
DTSTAMP:20260420T104537
CREATED:20210630T202158Z
LAST-MODIFIED:20210714T142922Z
UID:3307-1641772800-1641859199@chicagosma.com
SUMMARY:Second Semester - Private Lesson Tuition Due
DESCRIPTION:
URL:https://chicagosma.com/event/2nd-tuition-billing-cycle-begins/
CATEGORIES:Billing
ORGANIZER;CN="CSMA":MAILTO:info@chicagosma.com
END:VEVENT
BEGIN:VEVENT
DTSTART;VALUE=DATE:20210901
DTEND;VALUE=DATE:20210902
DTSTAMP:20260420T104537
CREATED:20210630T201638Z
LAST-MODIFIED:20210714T142910Z
UID:3295-1630454400-1630540799@chicagosma.com
SUMMARY:First Semester - Private Lesson Tuition Due
DESCRIPTION:
URL:https://chicagosma.com/event/1st-tuition-billing-cycle-begins/
CATEGORIES:Billing
ORGANIZER;CN="CSMA":MAILTO:info@chicagosma.com
END:VEVENT
BEGIN:VEVENT
DTSTART;VALUE=DATE:20210815
DTEND;VALUE=DATE:20210816
DTSTAMP:20260420T104537
CREATED:20210713T181444Z
LAST-MODIFIED:20210714T143015Z
UID:3540-1628985600-1629071999@chicagosma.com
SUMMARY:Private Lesson Registration Fee Due
DESCRIPTION:
URL:https://chicagosma.com/event/registration-fee-due/
CATEGORIES:Billing
END:VEVENT
END:VCALENDAR